BEGIN:VCALENDAR
VERSION:2.0
CALSCALE:GREGORIAN
PRODID:adamgibbons/ics
METHOD:PUBLISH
X-PUBLISHED-TTL:PT1H
BEGIN:VEVENT
UID:794@torontol.askapunk.net
SUMMARY:Corpusse / Esther Splett / Thumbutler / Nice Mover
DTSTAMP:20260423T144113Z
DTSTART:20260424T010000Z
DTEND:20260424T040000Z
URL:https://toronto.askapunk.net/event/corpusse-esther-splett-thumbutler-ni
	ce-mover
LOCATION:The Jama - 961 College Street
STATUS:CONFIRMED
CATEGORIES:961 college,corpusse,cream wild,dada punk,diverse,esther splett,
	exciting,nice mover,synth,the jama,thumbutler,toronto underground
END:VEVENT
END:VCALENDAR
